BEGIN:VCALENDAR
VERSION:2.0
PRODID:-//parentingpath.org//NONSGML kigkonsult.se iCalcreator 2.30.10//
CALSCALE:GREGORIAN
METHOD:PUBLISH
UID:e08395f0-6517-4367-a1a8-86c7feafcd49
X-WR-CALDESC:
X-WR-RELCALID:052ecfb956b6d4e67c483d8ac35beb85
X-WR-TIMEZONE:America/New_York
BEGIN:VTIMEZONE
TZID:America/New_York
BEGIN:STANDARD
TZNAME:EST
DTSTART:20231105T020000
TZOFFSETFROM:-0400
TZOFFSETTO:-0500
RDATE:20241103T020000
END:STANDARD
BEGIN:DAYLIGHT
TZNAME:EDT
DTSTART:20230312T020000
TZOFFSETFROM:-0500
TZOFFSETTO:-0400
RDATE:20240310T020000
RDATE:20250309T020000
END:DAYLIGHT
END:VTIMEZONE
BEGIN:VEVENT
UID:5dadfbfa-c416-441e-9d62-4e1150f45f6e
DTSTAMP:20260419T214546Z
DESCRIPTION:
DTSTART;TZID=America/New_York:20231108T170000
DTEND;TZID=America/New_York:20231108T180000
LOCATION:
SUMMARY:Family Transitions & Co-Parenting Class
END:VEVENT
END:VCALENDAR
